BEGIN:VCALENDAR
VERSION:2.0
PRODID:-//Gemmer Muzzle Loading Gun Club - ECPv6.15.20//NONSGML v1.0//EN
CALSCALE:GREGORIAN
METHOD:PUBLISH
X-ORIGINAL-URL:https://www.gemmermuzzleloadingclub.com
X-WR-CALDESC:Events for Gemmer Muzzle Loading Gun Club
REFRESH-INTERVAL;VALUE=DURATION:PT1H
X-Robots-Tag:noindex
X-PUBLISHED-TTL:PT1H
BEGIN:VTIMEZONE
TZID:America/Chicago
BEGIN:DAYLIGHT
TZOFFSETFROM:-0600
TZOFFSETTO:-0500
TZNAME:CDT
DTSTART:20250309T080000
END:DAYLIGHT
BEGIN:STANDARD
TZOFFSETFROM:-0500
TZOFFSETTO:-0600
TZNAME:CST
DTSTART:20251102T070000
END:STANDARD
BEGIN:DAYLIGHT
TZOFFSETFROM:-0600
TZOFFSETTO:-0500
TZNAME:CDT
DTSTART:20260308T080000
END:DAYLIGHT
BEGIN:STANDARD
TZOFFSETFROM:-0500
TZOFFSETTO:-0600
TZNAME:CST
DTSTART:20261101T070000
END:STANDARD
BEGIN:DAYLIGHT
TZOFFSETFROM:-0600
TZOFFSETTO:-0500
TZNAME:CDT
DTSTART:20270314T080000
END:DAYLIGHT
BEGIN:STANDARD
TZOFFSETFROM:-0500
TZOFFSETTO:-0600
TZNAME:CST
DTSTART:20271107T070000
END:STANDARD
END:VTIMEZONE
BEGIN:VEVENT
DTSTART;TZID=America/Chicago:20260719T100000
DTEND;TZID=America/Chicago:20260719T140000
DTSTAMP:20260423T221741
CREATED:20250621T223205Z
LAST-MODIFIED:20251205T140346Z
UID:15713-1784455200-1784469600@www.gemmermuzzleloadingclub.com
SUMMARY:7-19-2026 - No-Limit Bench Match
DESCRIPTION:Public Match (by invitation only)All Gemmer Range Rules Apply and NMLRA Safety RulesVisitors must sign range waiverDistance: 35 YardsBench: Clubs or ShootersFront Rest: Clubs or Shooters (Pad allowed the thickness of a piece of leather)Rifle:  Style: Traditional Muzzleloaders Only\, Flintlock or Percussion  Weight:  No Limit  Caliber: Any  Sights: Any metallic sights\, Open and Aperture  Shadders: Yes  Diopters: Yes  False Muzzles: If Used\, they need to be connected to benchTarget:  6 bull provided by club (SB-1)Shots: 10 (2 per bull with 1 practice bull)Scoring: 100 point systemRelays: 2 if neededPrizes: CashCost: $1550/50 Card Game \n\n\n\nShooting starts at 10am so please arrive early to setup. Gates will be open by 8:30am.Recommend that Visitors RSVP with Joe Kelly.   (907) 385-6759\, Justjoe3006@proton.me \n\n\n\nLocation: 2300 Bend Road\, Pacific\, MO 63069 \n\n\n\n\n\n\n\n\n\n\nShare this:\n				Share on Facebook (Opens in new window)\n				Facebook\n			\n				Share on X (Opens in new window)\n				X\n			\n				Email a link to a friend (Opens in new window)\n				Email\n			\n				Share on Pinterest (Opens in new window)\n				Pinterest\n			\n				Print (Opens in new window)\n				Print\n			\n				Share on X (Opens in new window)\n				X\n			Like this:Like Loading...
URL:https://www.gemmermuzzleloadingclub.com/event/no-limit-bench-match/
LOCATION:Gemmer Range\, 2300 Bend Road\, Pacific\, MO\, 63069\, United States
CATEGORIES:Public Matches
ORGANIZER;CN="Joe Kelly":MAILTO:Justjoe3006@proton.me
END:VEVENT
END:VCALENDAR