BEGIN:VCALENDAR
VERSION:2.0
PRODID:-//Gemmer Muzzle Loading Gun Club - ECPv6.15.20//NONSGML v1.0//EN
CALSCALE:GREGORIAN
METHOD:PUBLISH
X-ORIGINAL-URL:https://www.gemmermuzzleloadingclub.com
X-WR-CALDESC:Events for Gemmer Muzzle Loading Gun Club
REFRESH-INTERVAL;VALUE=DURATION:PT1H
X-Robots-Tag:noindex
X-PUBLISHED-TTL:PT1H
BEGIN:VTIMEZONE
TZID:America/Chicago
BEGIN:DAYLIGHT
TZOFFSETFROM:-0600
TZOFFSETTO:-0500
TZNAME:CDT
DTSTART:20250309T080000
END:DAYLIGHT
BEGIN:STANDARD
TZOFFSETFROM:-0500
TZOFFSETTO:-0600
TZNAME:CST
DTSTART:20251102T070000
END:STANDARD
BEGIN:DAYLIGHT
TZOFFSETFROM:-0600
TZOFFSETTO:-0500
TZNAME:CDT
DTSTART:20260308T080000
END:DAYLIGHT
BEGIN:STANDARD
TZOFFSETFROM:-0500
TZOFFSETTO:-0600
TZNAME:CST
DTSTART:20261101T070000
END:STANDARD
BEGIN:DAYLIGHT
TZOFFSETFROM:-0600
TZOFFSETTO:-0500
TZNAME:CDT
DTSTART:20270314T080000
END:DAYLIGHT
BEGIN:STANDARD
TZOFFSETFROM:-0500
TZOFFSETTO:-0600
TZNAME:CST
DTSTART:20271107T070000
END:STANDARD
END:VTIMEZONE
BEGIN:VEVENT
DTSTART;TZID=America/Chicago:20260517T100000
DTEND;TZID=America/Chicago:20260517T140000
DTSTAMP:20260423T193933
CREATED:20250620T094006Z
LAST-MODIFIED:20251109T165008Z
UID:15693-1779012000-1779026400@www.gemmermuzzleloadingclub.com
SUMMARY:05-17-2026 - Light Bench Gun Match
DESCRIPTION:Open to the Public Bench Match \n\n\n\n\n\nLight Bench Match Rules: \n\n\n\n\nPublic Match (by invitation only)\n\n\n\nAll Gemmer Range Rules Apply and NMLRA Safety Rules\n\n\n\nVisitors must sign range waiver\n\n\n\nDistance: 35 Yards\n\n\n\nBench: Club Supplied\n\n\n\nFront Rest: Step up 2×4 rest Supplied by club (a pad the thickness of a piece of leather can be used to protect rifle on rest.\n\n\n\nRifle:\n\nStyle: Traditional Muzzleloaders Only\, Flintlock or Percussion\n\n\n\nWeight: Under 15 lbs\n\n\n\nCaliber: Any\n\n\n\nSights: Open metallic\n\n\n\nShadders: No\n\n\n\nDiopters: No\n\n\n\nFalse Muzzles: If Used\, they need to be connected to bench\n\n\n\n\n\nTarget: 6 bull provided by club (SB-1)\n\n\n\nShots: 10 (2 per bull with 1 practice bull)\n\n\n\nScoring: 100 point system\n\n\n\nRelays: 2 if more than 10 shooters\n\n\n\nPrizes: Cash\n\n\n\nCost: $15\n\n\n\n50/50 Card Game\n\n\n\n\nShooting starts at 10am so please arrive early to setup. Gates will be open by 8:30am.  Recommend that Visitors RSVP with Joe Kelly. \n\n\n\n\n\n\n\n\n\n\n\n\n\n\nShare this:\n				Share on Facebook (Opens in new window)\n				Facebook\n			\n				Share on X (Opens in new window)\n				X\n			\n				Email a link to a friend (Opens in new window)\n				Email\n			\n				Share on Pinterest (Opens in new window)\n				Pinterest\n			\n				Print (Opens in new window)\n				Print\n			\n				Share on X (Opens in new window)\n				X\n			Like this:Like Loading...
URL:https://www.gemmermuzzleloadingclub.com/event/07-20-2025-light-bench-gun-match/
LOCATION:Gemmer Range\, 2300 Bend Road\, Pacific\, MO\, 63069\, United States
CATEGORIES:Public Matches
ATTACH;FMTTYPE=image/jpeg:https://www.gemmermuzzleloadingclub.com/wp-content/uploads/2025/06/Bench-2.jpg
ORGANIZER;CN="Joe Kelly":MAILTO:Justjoe3006@proton.me
END:VEVENT
END:VCALENDAR