BEGIN:VCALENDAR
VERSION:2.0
PRODID:-//Gemmer Muzzle Loading Gun Club - ECPv6.15.20//NONSGML v1.0//EN
CALSCALE:GREGORIAN
METHOD:PUBLISH
X-ORIGINAL-URL:https://www.gemmermuzzleloadingclub.com
X-WR-CALDESC:Events for Gemmer Muzzle Loading Gun Club
REFRESH-INTERVAL;VALUE=DURATION:PT1H
X-Robots-Tag:noindex
X-PUBLISHED-TTL:PT1H
BEGIN:VTIMEZONE
TZID:America/Chicago
BEGIN:DAYLIGHT
TZOFFSETFROM:-0600
TZOFFSETTO:-0500
TZNAME:CDT
DTSTART:20250309T080000
END:DAYLIGHT
BEGIN:STANDARD
TZOFFSETFROM:-0500
TZOFFSETTO:-0600
TZNAME:CST
DTSTART:20251102T070000
END:STANDARD
BEGIN:DAYLIGHT
TZOFFSETFROM:-0600
TZOFFSETTO:-0500
TZNAME:CDT
DTSTART:20260308T080000
END:DAYLIGHT
BEGIN:STANDARD
TZOFFSETFROM:-0500
TZOFFSETTO:-0600
TZNAME:CST
DTSTART:20261101T070000
END:STANDARD
BEGIN:DAYLIGHT
TZOFFSETFROM:-0600
TZOFFSETTO:-0500
TZNAME:CDT
DTSTART:20270314T080000
END:DAYLIGHT
BEGIN:STANDARD
TZOFFSETFROM:-0500
TZOFFSETTO:-0600
TZNAME:CST
DTSTART:20271107T070000
END:STANDARD
END:VTIMEZONE
BEGIN:VEVENT
DTSTART;TZID=America/Chicago:20260912T000000
DTEND;TZID=America/Chicago:20260920T235959
DTSTAMP:20260423T232842
CREATED:20241206T170129Z
LAST-MODIFIED:20260110T160455Z
UID:14371-1789171200-1789948799@www.gemmermuzzleloadingclub.com
SUMMARY:9-12 to 9-20-2026 – NMLRA Championship Shoot
DESCRIPTION:9-12 to 9-20-2026 – NMLRA Championship Shoot\nEach year\, thousands flock to our home range in Friendship\, Indiana for learning\, camaraderie\, living history\, and shooting sports. While the crafts and firearms we enjoy are several hundred years old\, our facility is quite modern. With covered firing lines\, well-kept trap & skeet ranges as well as full hookup camping\, The Walter Cline Range is a home away from home for many of our members.\nDuring our National Events in June and September you will find black powder shooting instruction and competitions including trap\, skeet\, quail walk\, sporting clays\, chunk gun\, pistol\, rifle\, youth\, knife and hawk\, woodswalk\, running boar\, primitive bow\, silhouette\, and living history encampments. Many vendors set up in Commercial Row selling everything from hand made jewelry to muzzleloading accessories to period crafts. Also\, check out the NMLRA Museum while on the grounds! Gunmakers Hall has an impressive display of muzzleloaders that is worth checking out! Affordable camping available. There is something for everyone! Call the NMLRA for more details at 812-432-2670 or check out the website at www.nmlra.org\nShare this:\n				Share on Facebook (Opens in new window)\n				Facebook\n			\n				Share on X (Opens in new window)\n				X\n			\n				Email a link to a friend (Opens in new window)\n				Email\n			\n				Share on Pinterest (Opens in new window)\n				Pinterest\n			\n				Print (Opens in new window)\n				Print\n			\n				Share on X (Opens in new window)\n				X\n			Like this:Like Loading...
URL:https://www.gemmermuzzleloadingclub.com/event/9-12-to-9-20-2026-nmlra-championship-shoot/
LOCATION:NMLRA Range\, 7436 South Co Road 575 East\, Versailles\, IN\, 47042\, United States
CATEGORIES:Public Matches
ATTACH;FMTTYPE=image/jpeg:https://www.gemmermuzzleloadingclub.com/wp-content/uploads/2024/12/IMG_0271.jpeg
ORGANIZER;CN="National Muzzle Loading Rifle Association":MAILTO:Nmlra@nmlra.org
END:VEVENT
BEGIN:VEVENT
DTSTART;TZID=America/Chicago:20260919T100000
DTEND;TZID=America/Chicago:20260919T140000
DTSTAMP:20260423T232842
CREATED:20241206T164507Z
LAST-MODIFIED:20260110T150715Z
UID:14367-1789812000-1789826400@www.gemmermuzzleloadingclub.com
SUMMARY:9-19-2026 - Traditional Archery Match
DESCRIPTION:9-19-2026 Saturday\, 10am – Traditional Archery Match\nThe shooting range is closed during this event to all firearms. \nJim Feeney asked me to remind everyone that this Saturday\, Sept 19\, 2026\, is our clubs Archery Match. We will be using the range and setting up targets at various distances. The range will be closed to all firearm shooting during the event. Shooting will start at about 11am and could be over by 2 or 3pm depending on the participation. \nIf you are bow hunting this year\, bring your compound\, traditional\, recurve\, or crossbow out and try the range out. Good opportunity to sight your bow in. \nIf you don’t have a bow\, Jim will have some that you can try out. We had a nice time last month and we would like to grow the group of participants and eventually bring in competition. For now\, it is just shooting fun with no scores. \nShare this:\n				Share on Facebook (Opens in new window)\n				Facebook\n			\n				Share on X (Opens in new window)\n				X\n			\n				Email a link to a friend (Opens in new window)\n				Email\n			\n				Share on Pinterest (Opens in new window)\n				Pinterest\n			\n				Print (Opens in new window)\n				Print\n			\n				Share on X (Opens in new window)\n				X\n			Like this:Like Loading...
URL:https://www.gemmermuzzleloadingclub.com/event/9-19-2026-traditional-archery-match-by-jim-feeney/
LOCATION:Gemmer Range\, 2300 Bend Road\, Pacific\, MO\, 63069\, United States
CATEGORIES:Archery,Public Matches
ATTACH;FMTTYPE=image/jpeg:https://www.gemmermuzzleloadingclub.com/wp-content/uploads/2025/11/img_3240.jpg
ORGANIZER;CN="Jim Feeney":MAILTO:jdfeeney1950@gmail.com
END:VEVENT
BEGIN:VEVENT
DTSTART;TZID=America/Chicago:20260920T100000
DTEND;TZID=America/Chicago:20260920T140000
DTSTAMP:20260423T232842
CREATED:20250621T225908Z
LAST-MODIFIED:20251109T162455Z
UID:15726-1789898400-1789912800@www.gemmermuzzleloadingclub.com
SUMMARY:9-20-2026 - Chunk Bench Match
DESCRIPTION:Chunk Bench Match Rules \n\n\n\n\nPublic Match (by invitation only)\n\n\n\nAll Gemmer Range Rules Apply and NMLRA Safety Rules\n\n\n\nVisitors must sign range waiver\n\n\n\nDistance: 60 Yards\n\n\n\nBench: Club or Shooter Supplied\n\n\n\nFront Rest: Club or Shooter Supplied (Pad allowed the thickness of a piece of leather)\n\n\n\nRifle:Style: Traditional Muzzleloaders Only\, Flintlock or PercussionWeight: No LimitCaliber: AnySights: Any metallic sights\, Open and ApertureShadders: YesDiopters: YesFalse Muzzles: If Used\, they need to be connected to the loading bench\n\n\n\nTarget: Gemmer Chunk Gun Targets.  Shooter supplies their own spotter.\n\n\n\nShots: 10 (relay shooting)\n\n\n\nScoring: String method. (2″ max string per relay\, or 20′ max string per match)\n\nRules are just like our Chunk Gun Match (prone)\, but shot off a bench.\n\n\n\n\n\nPrizes: Cash\n\n\n\nCost: $15\n\n\n\n50/50 Card Game\n\n\n\n\nShooting starts at 10am so please arrive early to setup. Gates will be open by 8:30am.Recommend that Visitors RSVP with Joe Kelly.   (907) 385-6759\, Justjoe3006@proton.me \n\n\n\nLocation: 2300 Bend Road\, Pacific\, MO 63069 \n\n\n\n\n\n\n\n\n\n\nShare this:\n				Share on Facebook (Opens in new window)\n				Facebook\n			\n				Share on X (Opens in new window)\n				X\n			\n				Email a link to a friend (Opens in new window)\n				Email\n			\n				Share on Pinterest (Opens in new window)\n				Pinterest\n			\n				Print (Opens in new window)\n				Print\n			\n				Share on X (Opens in new window)\n				X\n			Like this:Like Loading...
URL:https://www.gemmermuzzleloadingclub.com/event/chunk-bench-match/
LOCATION:Gemmer Range\, 2300 Bend Road\, Pacific\, MO\, 63069\, United States
CATEGORIES:Public Matches
ORGANIZER;CN="Joe Kelly":MAILTO:Justjoe3006@proton.me
END:VEVENT
BEGIN:VEVENT
DTSTART;TZID=America/Chicago:20260926T080000
DTEND;TZID=America/Chicago:20260926T120000
DTSTAMP:20260423T232842
CREATED:20241205T153923Z
LAST-MODIFIED:20260111T210351Z
UID:14346-1790409600-1790424000@www.gemmermuzzleloadingclub.com
SUMMARY:9-26-2026 - Picnic Workday 7 and Silhouette Match
DESCRIPTION:9-26-2026 Saturday\, 8am to done – Picnic Workday 7 and Silhouette Match \nAll hands-on deck please to make the range look great for our friends and families.   \nCost: $15 assessed on your 2025 dues if missed.Don’t forget:  Always sign in on the sheet provided. \nRon Lawrence will host a public Silhouette match following the workday.(See rules in the Match Handbood for details.) Cost: $5.  Total of 20 offhand shots at steel targets. \nShare this:\n				Share on Facebook (Opens in new window)\n				Facebook\n			\n				Share on X (Opens in new window)\n				X\n			\n				Email a link to a friend (Opens in new window)\n				Email\n			\n				Share on Pinterest (Opens in new window)\n				Pinterest\n			\n				Print (Opens in new window)\n				Print\n			\n				Share on X (Opens in new window)\n				X\n			Like this:Like Loading...
URL:https://www.gemmermuzzleloadingclub.com/event/9-26-2026-picnic-workday-7/
LOCATION:Gemmer Range\, 2300 Bend Road\, Pacific\, MO\, 63069\, United States
CATEGORIES:Public Matches,Workdays
ORGANIZER;CN="Ron Lawrence":MAILTO:rwrllawrence@gmail.com
END:VEVENT
END:VCALENDAR