BEGIN:VCALENDAR
VERSION:2.0
PRODID:-//Gemmer Muzzle Loading Gun Club - ECPv6.15.20//NONSGML v1.0//EN
CALSCALE:GREGORIAN
METHOD:PUBLISH
X-ORIGINAL-URL:https://www.gemmermuzzleloadingclub.com
X-WR-CALDESC:Events for Gemmer Muzzle Loading Gun Club
REFRESH-INTERVAL;VALUE=DURATION:PT1H
X-Robots-Tag:noindex
X-PUBLISHED-TTL:PT1H
BEGIN:VTIMEZONE
TZID:America/Chicago
BEGIN:DAYLIGHT
TZOFFSETFROM:-0600
TZOFFSETTO:-0500
TZNAME:CDT
DTSTART:20250309T080000
END:DAYLIGHT
BEGIN:STANDARD
TZOFFSETFROM:-0500
TZOFFSETTO:-0600
TZNAME:CST
DTSTART:20251102T070000
END:STANDARD
BEGIN:DAYLIGHT
TZOFFSETFROM:-0600
TZOFFSETTO:-0500
TZNAME:CDT
DTSTART:20260308T080000
END:DAYLIGHT
BEGIN:STANDARD
TZOFFSETFROM:-0500
TZOFFSETTO:-0600
TZNAME:CST
DTSTART:20261101T070000
END:STANDARD
BEGIN:DAYLIGHT
TZOFFSETFROM:-0600
TZOFFSETTO:-0500
TZNAME:CDT
DTSTART:20270314T080000
END:DAYLIGHT
BEGIN:STANDARD
TZOFFSETFROM:-0500
TZOFFSETTO:-0600
TZNAME:CST
DTSTART:20271107T070000
END:STANDARD
END:VTIMEZONE
BEGIN:VEVENT
DTSTART;TZID=America/Chicago:20261031T080000
DTEND;TZID=America/Chicago:20261031T120000
DTSTAMP:20260421T133802
CREATED:20241205T154033Z
LAST-MODIFIED:20260111T210303Z
UID:14348-1793433600-1793448000@www.gemmermuzzleloadingclub.com
SUMMARY:10-31-2026 - Club Workday 8 and Silhouette Match
DESCRIPTION:10-31-2026 Saturday\, 8am to Noon – Club Workday 8 and Silhouette Match \nCost: $15 assessed on your 2026 dues if missed.Don’t forget:  Always sign in on the sheet provided. \nRon Lawrence will host a public Silhouette Match following the workday.(See the Rules in the Match Handbook for details.) Cost: $5. Total of 20 offhand shots at steel targets. \nShare this:\n				Share on Facebook (Opens in new window)\n				Facebook\n			\n				Share on X (Opens in new window)\n				X\n			\n				Email a link to a friend (Opens in new window)\n				Email\n			\n				Share on Pinterest (Opens in new window)\n				Pinterest\n			\n				Print (Opens in new window)\n				Print\n			\n				Share on X (Opens in new window)\n				X\n			Like this:Like Loading...
URL:https://www.gemmermuzzleloadingclub.com/event/10-31-2026-club-workday-8/
LOCATION:Gemmer Range\, 2300 Bend Road\, Pacific\, MO\, 63069\, United States
CATEGORIES:Public Matches,Workdays
ORGANIZER;CN="Ron Lawrence":MAILTO:rwrllawrence@gmail.com
END:VEVENT
END:VCALENDAR