BEGIN:VCALENDAR
VERSION:2.0
PRODID:-//Gemmer Muzzle Loading Gun Club - ECPv6.15.20//NONSGML v1.0//EN
CALSCALE:GREGORIAN
METHOD:PUBLISH
X-ORIGINAL-URL:https://www.gemmermuzzleloadingclub.com
X-WR-CALDESC:Events for Gemmer Muzzle Loading Gun Club
REFRESH-INTERVAL;VALUE=DURATION:PT1H
X-Robots-Tag:noindex
X-PUBLISHED-TTL:PT1H
BEGIN:VTIMEZONE
TZID:America/Chicago
BEGIN:DAYLIGHT
TZOFFSETFROM:-0600
TZOFFSETTO:-0500
TZNAME:CDT
DTSTART:20250309T080000
END:DAYLIGHT
BEGIN:STANDARD
TZOFFSETFROM:-0500
TZOFFSETTO:-0600
TZNAME:CST
DTSTART:20251102T070000
END:STANDARD
BEGIN:DAYLIGHT
TZOFFSETFROM:-0600
TZOFFSETTO:-0500
TZNAME:CDT
DTSTART:20260308T080000
END:DAYLIGHT
BEGIN:STANDARD
TZOFFSETFROM:-0500
TZOFFSETTO:-0600
TZNAME:CST
DTSTART:20261101T070000
END:STANDARD
BEGIN:DAYLIGHT
TZOFFSETFROM:-0600
TZOFFSETTO:-0500
TZNAME:CDT
DTSTART:20270314T080000
END:DAYLIGHT
BEGIN:STANDARD
TZOFFSETFROM:-0500
TZOFFSETTO:-0600
TZNAME:CST
DTSTART:20271107T070000
END:STANDARD
END:VTIMEZONE
BEGIN:VEVENT
DTSTART;TZID=America/Chicago:20261004T100000
DTEND;TZID=America/Chicago:20261004T140000
DTSTAMP:20260421T135932
CREATED:20241206T180825Z
LAST-MODIFIED:20260110T151756Z
UID:14380-1791108000-1791122400@www.gemmermuzzleloadingclub.com
SUMMARY:10-4-2026 - Hunter’s Match / Schuetzen Target (MOHA)
DESCRIPTION:10-4-2026 Sunday\, 10am – Hunter’s Match / Schuetzen Target (MOHA)\n\nTargets: Six assorted animal targets\nDistance: 25 yards\nPosition: Off Hand\nRifle Weight: No Restrictions\nCaliber: No Restrictions\nPractice Shots: Yes\nNumber of Shots: 12 (2 shots on each animal target)\nMaximum Score: 120\nSights: Open\nShaders: Yes\nDiopters: Yes\nCost: $10\nPrizes: Money\nMOHA Shooters will shoot 2 targets for a total of 24 shots.\nGemmer/MOHA Members will use target 1 for both Gemmer match and MOHA match.\n\nPistol Match: 25-yard black powder pistol match – 6 shots – Cost: $2Smoothbore Match: .54 cal +; 6 shots; 5 count; 25 yards Offhand; No rear sights; Cost: $2Schuetzen Target MatchOne Off-Hand shot at a pre-determined “Mystery X”. Winner makes next year’s target. Prior years winner will try to trick us with his creation. All members that shot the Hunter’s Match must also shoot the Schuetzen Target. 2025’s winner\, Walter Fett\, will try to trick us with his creation. \nShare this:\n				Share on Facebook (Opens in new window)\n				Facebook\n			\n				Share on X (Opens in new window)\n				X\n			\n				Email a link to a friend (Opens in new window)\n				Email\n			\n				Share on Pinterest (Opens in new window)\n				Pinterest\n			\n				Print (Opens in new window)\n				Print\n			\n				Share on X (Opens in new window)\n				X\n			Like this:Like Loading...
URL:https://www.gemmermuzzleloadingclub.com/event/10-4-2026-hunters-match-schuetzen-target-moha/
LOCATION:MO
CATEGORIES:Club Matches,MOHA Events
ATTACH;FMTTYPE=image/jpeg:https://www.gemmermuzzleloadingclub.com/wp-content/uploads/2024/10/img_9398-1.jpg
ORGANIZER;CN="Gemmer Muzzle Loading Gun Club":MAILTO:gmlgc.stl@gmail.com
END:VEVENT
END:VCALENDAR