BEGIN:VCALENDAR
VERSION:2.0
PRODID:-//Gemmer Muzzle Loading Gun Club - ECPv6.15.20//NONSGML v1.0//EN
CALSCALE:GREGORIAN
METHOD:PUBLISH
X-ORIGINAL-URL:https://www.gemmermuzzleloadingclub.com
X-WR-CALDESC:Events for Gemmer Muzzle Loading Gun Club
REFRESH-INTERVAL;VALUE=DURATION:PT1H
X-Robots-Tag:noindex
X-PUBLISHED-TTL:PT1H
BEGIN:VTIMEZONE
TZID:America/Chicago
BEGIN:DAYLIGHT
TZOFFSETFROM:-0600
TZOFFSETTO:-0500
TZNAME:CDT
DTSTART:20250309T080000
END:DAYLIGHT
BEGIN:STANDARD
TZOFFSETFROM:-0500
TZOFFSETTO:-0600
TZNAME:CST
DTSTART:20251102T070000
END:STANDARD
BEGIN:DAYLIGHT
TZOFFSETFROM:-0600
TZOFFSETTO:-0500
TZNAME:CDT
DTSTART:20260308T080000
END:DAYLIGHT
BEGIN:STANDARD
TZOFFSETFROM:-0500
TZOFFSETTO:-0600
TZNAME:CST
DTSTART:20261101T070000
END:STANDARD
BEGIN:DAYLIGHT
TZOFFSETFROM:-0600
TZOFFSETTO:-0500
TZNAME:CDT
DTSTART:20270314T080000
END:DAYLIGHT
BEGIN:STANDARD
TZOFFSETFROM:-0500
TZOFFSETTO:-0600
TZNAME:CST
DTSTART:20271107T070000
END:STANDARD
END:VTIMEZONE
BEGIN:VEVENT
DTSTART;TZID=America/Chicago:20260301T100000
DTEND;TZID=America/Chicago:20260301T140000
DTSTAMP:20260421T080903
CREATED:20241203T182733Z
LAST-MODIFIED:20260110T135911Z
UID:14315-1772359200-1772373600@www.gemmermuzzleloadingclub.com
SUMMARY:3-1-2026 - Gemmer Rendezvous Match and Trade Fair (MOHA Match)
DESCRIPTION:3-1-2026 Sunday\, 10am – Gemmer Rendezvous Match and Trade Fair (MOHA Match) \n\nThere will not be a Super Senior bench\, Pistol or Smoothbore Match on this day.\nEquipment: Need an offhand “open sights only” ML rifle\, a fire starter (flint and steel)\, a tomahawk\,and a throwing knife with a handle.\nTargets: Steel and other rendezvous style targets. 7 shooting stations\nDistance: Various\nPosition: Off Hand\nRifle Weight: No Restrictions\nCaliber: No Restrictions\nPractice Shots: No\nNumber of Shots: 14\nMaximum Score: 110\n\n2 shots at 7 targets = 14 shots x 5pts = 70 points\nPeriod dress: 5 points\nShooting from a pouch: 5 point\nFlintlock: 5 points\nFire-starting: 0-7 points based upon speed\nHawk and Knife: 3 throws 3 each. Stick = 1pt\, Cut = 3pts\nHawk: 9 points\nKnife: 9 points\n\n\nSights: Open\nShaders: No\nDiopters: No\nCost: A blanket prize equal to $25 or more (Prizes must be related to shooting and/or muzzle-loading activities). Provide a prize\, take a prize.\nPrizes: 1st place – Traveling trophy; Top 3 places: Medals\n\n*** Trade Fair – Bring out Muzzleloader related items For-Trade or Sale *** \nShare this:\n				Share on Facebook (Opens in new window)\n				Facebook\n			\n				Share on X (Opens in new window)\n				X\n			\n				Email a link to a friend (Opens in new window)\n				Email\n			\n				Share on Pinterest (Opens in new window)\n				Pinterest\n			\n				Print (Opens in new window)\n				Print\n			\n				Share on X (Opens in new window)\n				X\n			Like this:Like Loading...
URL:https://www.gemmermuzzleloadingclub.com/event/3-2-2025-sunday-10am-the-club-rendezvous-moha-match/
LOCATION:Gemmer Range\, 2300 Bend Road\, Pacific\, MO\, 63069\, United States
CATEGORIES:Club Matches,MOHA Events
ATTACH;FMTTYPE=image/jpeg:https://www.gemmermuzzleloadingclub.com/wp-content/uploads/2023/03/ECD2ABFF-B960-40DA-9876-B4BE9FCC2A06.jpeg
ORGANIZER;CN="Art Buckowitz":MAILTO:abuckowitz@yahoo.com
END:VEVENT
END:VCALENDAR