BEGIN:VCALENDAR
VERSION:2.0
PRODID:-//Gemmer Muzzle Loading Gun Club - ECPv6.15.20//NONSGML v1.0//EN
CALSCALE:GREGORIAN
METHOD:PUBLISH
X-ORIGINAL-URL:https://www.gemmermuzzleloadingclub.com
X-WR-CALDESC:Events for Gemmer Muzzle Loading Gun Club
REFRESH-INTERVAL;VALUE=DURATION:PT1H
X-Robots-Tag:noindex
X-PUBLISHED-TTL:PT1H
BEGIN:VTIMEZONE
TZID:America/Chicago
BEGIN:DAYLIGHT
TZOFFSETFROM:-0600
TZOFFSETTO:-0500
TZNAME:CDT
DTSTART:20250309T080000
END:DAYLIGHT
BEGIN:STANDARD
TZOFFSETFROM:-0500
TZOFFSETTO:-0600
TZNAME:CST
DTSTART:20251102T070000
END:STANDARD
BEGIN:DAYLIGHT
TZOFFSETFROM:-0600
TZOFFSETTO:-0500
TZNAME:CDT
DTSTART:20260308T080000
END:DAYLIGHT
BEGIN:STANDARD
TZOFFSETFROM:-0500
TZOFFSETTO:-0600
TZNAME:CST
DTSTART:20261101T070000
END:STANDARD
BEGIN:DAYLIGHT
TZOFFSETFROM:-0600
TZOFFSETTO:-0500
TZNAME:CDT
DTSTART:20270314T080000
END:DAYLIGHT
BEGIN:STANDARD
TZOFFSETFROM:-0500
TZOFFSETTO:-0600
TZNAME:CST
DTSTART:20271107T070000
END:STANDARD
END:VTIMEZONE
BEGIN:VEVENT
DTSTART;TZID=America/Chicago:20260802T100000
DTEND;TZID=America/Chicago:20260802T140000
DTSTAMP:20260421T093617
CREATED:20241206T153613Z
LAST-MODIFIED:20260110T145735Z
UID:14359-1785664800-1785679200@www.gemmermuzzleloadingclub.com
SUMMARY:8-2-2026 - The Mystery Target Match (MOHA Match)
DESCRIPTION:8-2-2026 Sunday\, 10am – The Mystery Target Match (MOHA Match) \n\nTargets: Announced the day of the match.\nDistance: Announced the day of the match.\nPosition: Off-Hand\nRifle Weight: No Restrictions\nCaliber: No Restrictions\nPractice Shots: Determined by the Range Officer\nNumber of Shots: 10 or more\nMaximum Score: 100 or more\nMOHA Shooters will shoot 2 targets for a total of 20 shots.\nGemmer/MOHA Members will use target 1 for both Gemmer match and MOHA match.\nSights: Open\nShaders: Yes\nDiopters: Yes\nCost: $10\nPrizes: Cash prizesDepending on the target selected by the range officer\, there may or not be practice allowed. It will beannounced the morning of the match. Also\, some matches may be more than 10 shots.Pistol Match: 25-yard black powder pistol match – 6 shots – Cost: $2Smoothbore Match: .54 cal +; 6 shots; 5 count; 25 yards Offhand; No rear sights; Cost: $2\n\nShare this:\n				Share on Facebook (Opens in new window)\n				Facebook\n			\n				Share on X (Opens in new window)\n				X\n			\n				Email a link to a friend (Opens in new window)\n				Email\n			\n				Share on Pinterest (Opens in new window)\n				Pinterest\n			\n				Print (Opens in new window)\n				Print\n			\n				Share on X (Opens in new window)\n				X\n			Like this:Like Loading...
URL:https://www.gemmermuzzleloadingclub.com/event/8-2-2026-the-mystery-target-match-moha-match/
LOCATION:Gemmer Range\, 2300 Bend Road\, Pacific\, MO\, 63069\, United States
CATEGORIES:Club Matches,MOHA Events
ATTACH;FMTTYPE=image/jpeg:https://www.gemmermuzzleloadingclub.com/wp-content/uploads/2024/12/2023-08-13-17.01.37.jpg
ORGANIZER;CN="Art Buckowitz":MAILTO:abuckowitz@yahoo.com
END:VEVENT
END:VCALENDAR