BEGIN:VCALENDAR
VERSION:2.0
PRODID:-//Gemmer Muzzle Loading Gun Club - ECPv6.15.20//NONSGML v1.0//EN
CALSCALE:GREGORIAN
METHOD:PUBLISH
X-WR-CALNAME:Gemmer Muzzle Loading Gun Club
X-ORIGINAL-URL:https://www.gemmermuzzleloadingclub.com
X-WR-CALDESC:Events for Gemmer Muzzle Loading Gun Club
REFRESH-INTERVAL;VALUE=DURATION:PT1H
X-Robots-Tag:noindex
X-PUBLISHED-TTL:PT1H
BEGIN:VTIMEZONE
TZID:America/Chicago
BEGIN:DAYLIGHT
TZOFFSETFROM:-0600
TZOFFSETTO:-0500
TZNAME:CDT
DTSTART:20250309T080000
END:DAYLIGHT
BEGIN:STANDARD
TZOFFSETFROM:-0500
TZOFFSETTO:-0600
TZNAME:CST
DTSTART:20251102T070000
END:STANDARD
BEGIN:DAYLIGHT
TZOFFSETFROM:-0600
TZOFFSETTO:-0500
TZNAME:CDT
DTSTART:20260308T080000
END:DAYLIGHT
BEGIN:STANDARD
TZOFFSETFROM:-0500
TZOFFSETTO:-0600
TZNAME:CST
DTSTART:20261101T070000
END:STANDARD
BEGIN:DAYLIGHT
TZOFFSETFROM:-0600
TZOFFSETTO:-0500
TZNAME:CDT
DTSTART:20270314T080000
END:DAYLIGHT
BEGIN:STANDARD
TZOFFSETFROM:-0500
TZOFFSETTO:-0600
TZNAME:CST
DTSTART:20271107T070000
END:STANDARD
END:VTIMEZONE
BEGIN:VEVENT
DTSTART;TZID=America/Chicago:20260606T100000
DTEND;TZID=America/Chicago:20260607T150000
DTSTAMP:20260421T060927
CREATED:20250527T112524Z
LAST-MODIFIED:20251109T194818Z
UID:14834-1780740000-1780844400@www.gemmermuzzleloadingclub.com
SUMMARY:6-6 to 6-7-2026 Fort de Chartres Rendezvous
DESCRIPTION:Share this:\n				Share on Facebook (Opens in new window)\n				Facebook\n			\n				Share on X (Opens in new window)\n				X\n			\n				Email a link to a friend (Opens in new window)\n				Email\n			\n				Share on Pinterest (Opens in new window)\n				Pinterest\n			\n				Print (Opens in new window)\n				Print\n			\n				Share on X (Opens in new window)\n				X\n			Like this:Like Loading...
URL:https://www.gemmermuzzleloadingclub.com/event/fort-de-chartres-rendezvous/
LOCATION:Fort de Chartres Historic Site\, 1350 IL-155\, Prairie du Rocher\, IL\, 62277\, United States
CATEGORIES:Public Matches
ORGANIZER;CN="Les Amis du Fort de Chartres":MAILTO:lesamisdufortdechartres@gmail.com
END:VEVENT
BEGIN:VEVENT
DTSTART;TZID=America/Chicago:20260607T100000
DTEND;TZID=America/Chicago:20260607T140000
DTSTAMP:20260421T060927
CREATED:20241204T220215Z
LAST-MODIFIED:20260110T144339Z
UID:14330-1780826400-1780840800@www.gemmermuzzleloadingclub.com
SUMMARY:6-7-2026 - The Bottle Match - (MOHA Match)
DESCRIPTION:6-7-2026 Sunday\, 10:00am – The Bottle Match – (MOHA Match) \nTarget: TG2427Distance: 35 yardsPosition: Off HandPractice Shots: YesNumber of Shots: 12Maximum Score: 120Sights: OpenShaders: NoDiopters: NoCost: $10Prizes: Liquid libationsMOHA Shooters will shoot 2 targets for a total of 24 shots.Gemmer/MOHA Members will use target 1 for both Gemmer match and MOHA match. \nIf you hit the horizontal line on a bottle\, the score it taken off the center of the ball. If it is above theline\, it is a 10. If it is below the line\, 5. \nScoring is done per the targets instructions:Bullet fully in bottle neck – 10 pointsBullet nicking bottle neck – 7 pointsBullet fully in bottle body – 5 pointsBullet nicking bottle body – 3 points \nPistol Match: 25-yard black powder pistol match – 6 shots – Cost: $2Smoothbore Match: .54 cal +; 6 shots; 5 count; 25 yards Offhand; No rear sights; Cost: $2 \nShare this:\n				Share on Facebook (Opens in new window)\n				Facebook\n			\n				Share on X (Opens in new window)\n				X\n			\n				Email a link to a friend (Opens in new window)\n				Email\n			\n				Share on Pinterest (Opens in new window)\n				Pinterest\n			\n				Print (Opens in new window)\n				Print\n			\n				Share on X (Opens in new window)\n				X\n			Like this:Like Loading...
URL:https://www.gemmermuzzleloadingclub.com/event/6-7-2026-sunday-1000am-the-bottle-match-moha-match/
LOCATION:Gemmer Range\, 2300 Bend Road\, Pacific\, MO\, 63069\, United States
CATEGORIES:Club Matches,MOHA Events
ATTACH;FMTTYPE=image/jpeg:https://www.gemmermuzzleloadingclub.com/wp-content/uploads/2024/04/2020-08-02-09.53.25-scaled.jpg
ORGANIZER;CN="Art Buckowitz":MAILTO:abuckowitz@yahoo.com
END:VEVENT
BEGIN:VEVENT
DTSTART;TZID=America/Chicago:20260613T000000
DTEND;TZID=America/Chicago:20260621T235959
DTSTAMP:20260421T060927
CREATED:20241205T155948Z
LAST-MODIFIED:20260110T160147Z
UID:14352-1781308800-1782086399@www.gemmermuzzleloadingclub.com
SUMMARY:6-13 to 6-21\, 2026 – NMLRA Spring National Championship – Friendship\, IN
DESCRIPTION:NMLRA National Spring ShootNRA Muzzleloading NationalsJune 13-21\, 2026\nExperience the excitement of our premier 8-day Championship shoots\, featuring a variety of matches\, classes\, programs\, lectures\, and vendors to keep you engaged all week long. Shooting relays run on 15 different ranges from 8 am to 5 pm every day. \nThe Walter Cline Range offers an array of activities\, including covered Firing Lines\, Trap & Skeet\, Archery\, Tomahawk Throwing\, Bank after Bank of Silhouettes\, and a challenging woodswalk course. With NMLRA\, you can enjoy it all. Check out the last shoot program to find out all the matches available. This years will be posted as soon as it is finalized. \nWhile we have been hosting events for over 90 years\, that doesn’t mean you have to be an old pro to join the fun. Each range is more than happy to have new shooters. We have a page on the website just for the new shooters click here to learn more. \nIf you have any questions please call our office at 812-432-2670. \n\n\n\nShare this:\n				Share on Facebook (Opens in new window)\n				Facebook\n			\n				Share on X (Opens in new window)\n				X\n			\n				Email a link to a friend (Opens in new window)\n				Email\n			\n				Share on Pinterest (Opens in new window)\n				Pinterest\n			\n				Print (Opens in new window)\n				Print\n			\n				Share on X (Opens in new window)\n				X\n			Like this:Like Loading...
URL:https://www.gemmermuzzleloadingclub.com/event/6-13-to-6-21-2026-nmlra-spring-national-championship-friendship-in/
LOCATION:NMLRA Range\, 7436 South Co Road 575 East\, Versailles\, IN\, 47042\, United States
CATEGORIES:Public Matches
ORGANIZER;CN="National Muzzle Loading Rifle Association":MAILTO:Nmlra@nmlra.org
END:VEVENT
BEGIN:VEVENT
DTSTART;TZID=America/Chicago:20260621T100000
DTEND;TZID=America/Chicago:20260621T130000
DTSTAMP:20260421T060927
CREATED:20251205T143424Z
LAST-MODIFIED:20251205T143429Z
UID:16311-1782036000-1782046800@www.gemmermuzzleloadingclub.com
SUMMARY:6-21-2026 - Light Bench Match
DESCRIPTION:Public Match (by invitation only)All Gemmer Range Rules Apply and NMLRA Safety RulesVisitors must sign range waiverDistance: 35 YardsBench: Club SuppliedFront Rest: Step up 2×4 rest Supplied by club (a pad the thickness of a piece of leather can be used to protect rifle on rest.Rifle:Style: Traditional Muzzleloaders Only\, Flintlock or PercussionWeight: Under 15 lbsCaliber: AnySights: Open metallicShadders: NoDiopters: NoFalse Muzzles: If Used\, they need to be connected to benchTarget: 6 bull provided by club (SB-1)Shots: 10 (2 per bull with 1 practice bull)Scoring: 100 point systemRelays: 2 if more than 10 shootersPrizes: Cash50/50 Card Game \n\n\n\nShooting starts at 10am so please arrive early to setup. Gates will be open by 8:30am.  Recommend that Visitors RSVP with Joe Kelly. \n\n\n\n\n\n\n\n\n\n\nShare this:\n				Share on Facebook (Opens in new window)\n				Facebook\n			\n				Share on X (Opens in new window)\n				X\n			\n				Email a link to a friend (Opens in new window)\n				Email\n			\n				Share on Pinterest (Opens in new window)\n				Pinterest\n			\n				Print (Opens in new window)\n				Print\n			\n				Share on X (Opens in new window)\n				X\n			Like this:Like Loading...
URL:https://www.gemmermuzzleloadingclub.com/event/6-21-2026-light-bench-match/
LOCATION:Gemmer Range\, 2300 Bend Road\, Pacific\, MO\, 63069\, United States
CATEGORIES:Public Matches
ORGANIZER;CN="Joe Kelly":MAILTO:Justjoe3006@proton.me
END:VEVENT
BEGIN:VEVENT
DTSTART;TZID=America/Chicago:20260627T080000
DTEND;TZID=America/Chicago:20260627T120000
DTSTAMP:20260421T060927
CREATED:20241204T214732Z
LAST-MODIFIED:20260111T211652Z
UID:14328-1782547200-1782561600@www.gemmermuzzleloadingclub.com
SUMMARY:6-27-2026  – Club Workday 4 and Archery Match
DESCRIPTION:6-27-2026 Saturday\, 8:00am to Noon – Club Workday 4 and Archery Match \nCost: $15 assessed on your 2026 dues if missed. \nDon’t forget:  Always sign in on the sheet provided. \n** Jim Feeney will be hosting an Archery Match after the work day.  Bring your traditional bow along and have some fun target shooting. \nShare this:\n				Share on Facebook (Opens in new window)\n				Facebook\n			\n				Share on X (Opens in new window)\n				X\n			\n				Email a link to a friend (Opens in new window)\n				Email\n			\n				Share on Pinterest (Opens in new window)\n				Pinterest\n			\n				Print (Opens in new window)\n				Print\n			\n				Share on X (Opens in new window)\n				X\n			Like this:Like Loading...
URL:https://www.gemmermuzzleloadingclub.com/event/6-27-2026-saturday-800am-to-noon-club-workday-4-and-archery-match/
LOCATION:Gemmer Range\, 2300 Bend Road\, Pacific\, MO\, 63069\, United States
CATEGORIES:Archery,Public Matches,Workdays
ORGANIZER;CN="Jim Feeney":MAILTO:jdfeeney1950@gmail.com
END:VEVENT
END:VCALENDAR