BEGIN:VCALENDAR
VERSION:2.0
PRODID:-//Gemmer Muzzle Loading Gun Club - ECPv6.15.20//NONSGML v1.0//EN
CALSCALE:GREGORIAN
METHOD:PUBLISH
X-WR-CALNAME:Gemmer Muzzle Loading Gun Club
X-ORIGINAL-URL:https://www.gemmermuzzleloadingclub.com
X-WR-CALDESC:Events for Gemmer Muzzle Loading Gun Club
REFRESH-INTERVAL;VALUE=DURATION:PT1H
X-Robots-Tag:noindex
X-PUBLISHED-TTL:PT1H
BEGIN:VTIMEZONE
TZID:America/Chicago
BEGIN:DAYLIGHT
TZOFFSETFROM:-0600
TZOFFSETTO:-0500
TZNAME:CDT
DTSTART:20250309T080000
END:DAYLIGHT
BEGIN:STANDARD
TZOFFSETFROM:-0500
TZOFFSETTO:-0600
TZNAME:CST
DTSTART:20251102T070000
END:STANDARD
BEGIN:DAYLIGHT
TZOFFSETFROM:-0600
TZOFFSETTO:-0500
TZNAME:CDT
DTSTART:20260308T080000
END:DAYLIGHT
BEGIN:STANDARD
TZOFFSETFROM:-0500
TZOFFSETTO:-0600
TZNAME:CST
DTSTART:20261101T070000
END:STANDARD
BEGIN:DAYLIGHT
TZOFFSETFROM:-0600
TZOFFSETTO:-0500
TZNAME:CDT
DTSTART:20270314T080000
END:DAYLIGHT
BEGIN:STANDARD
TZOFFSETFROM:-0500
TZOFFSETTO:-0600
TZNAME:CST
DTSTART:20271107T070000
END:STANDARD
END:VTIMEZONE
BEGIN:VEVENT
DTSTART;TZID=America/Chicago:20260503T100000
DTEND;TZID=America/Chicago:20260503T140000
DTSTAMP:20260421T045448
CREATED:20241204T221946Z
LAST-MODIFIED:20251205T151653Z
UID:14332-1777802400-1777816800@www.gemmermuzzleloadingclub.com
SUMMARY:5-3-2026 - The Five-Position Memorial Match
DESCRIPTION:5-3-2026 Sunday\, 10am\, The Five-Position Memorial Match \n\nTarget: TG2432\nDistance: 50 yards\nPosition: 2 shots each: bench\, offhand\, cross sticks\, prone\, range rod.\nRifle Weight: No Restrictions\nCaliber: No Restrictions\nPractice Shots: Yes\nNumber of Shots: 10\nMaximum Score: 100\nSights: Open\nShaders: Yes\nDiopters: Yes\nCost: $10\nPrizes: Traveling Memorial Trophy. Top 3 places: MedalsThis match is shot at a 6 bull target 50 yards down range. One practice bull and 5 scoring bulls. 2shots at each of the remaining 5 bulls from 5 different shooting positions.\n\nPistol Match: 25-yard black powder pistol match – 6 shots – Cost: $2Smoothbore Match: .54 cal +; 6 shots; 5 count; 25 yards Offhand; No rear sights; Cost: $2 \nShare this:\n				Share on Facebook (Opens in new window)\n				Facebook\n			\n				Share on X (Opens in new window)\n				X\n			\n				Email a link to a friend (Opens in new window)\n				Email\n			\n				Share on Pinterest (Opens in new window)\n				Pinterest\n			\n				Print (Opens in new window)\n				Print\n			\n				Share on X (Opens in new window)\n				X\n			Like this:Like Loading...
URL:https://www.gemmermuzzleloadingclub.com/event/5-4-2025-sunday-10am-the-five-position-memorial-match/
LOCATION:Gemmer Range\, 2300 Bend Road\, Pacific\, MO\, 63069\, United States
CATEGORIES:Shooting Matches
ATTACH;FMTTYPE=image/jpeg:https://www.gemmermuzzleloadingclub.com/wp-content/uploads/2024/12/2024-05-05-11.02.00-scaled.jpg
ORGANIZER;CN="Gemmer Muzzle Loading Gun Club":MAILTO:gmlgc.stl@gmail.com
END:VEVENT
BEGIN:VEVENT
DTSTART;TZID=America/Chicago:20260515T080000
DTEND;TZID=America/Chicago:20260516T190000
DTSTAMP:20260421T045448
CREATED:20260110T133530Z
LAST-MODIFIED:20260110T134042Z
UID:16421-1778832000-1778958000@www.gemmermuzzleloadingclub.com
SUMMARY:5-15 to 16-2026 – Gemmer Woods Walk and Camping
DESCRIPTION:Screenshot\n\n\n\n5-15 to 16-2026 – Gemmer Woods Walk and Camping \n\n\n\n• Cost: $25 blanket prizeSaturday Shooting starts at 9am.• Setup and Claybirds on Friday\, Woodswalk on Saturday with Awards at 5pm.• Open to the public\, by invitation only.• The Range is closed during these dates. The range and woods will be used. \n\n\n\n\n\n\n\n\n\n\nShare this:\n				Share on Facebook (Opens in new window)\n				Facebook\n			\n				Share on X (Opens in new window)\n				X\n			\n				Email a link to a friend (Opens in new window)\n				Email\n			\n				Share on Pinterest (Opens in new window)\n				Pinterest\n			\n				Print (Opens in new window)\n				Print\n			\n				Share on X (Opens in new window)\n				X\n			Like this:Like Loading...
URL:https://www.gemmermuzzleloadingclub.com/event/5-15-to-16-2026-gemmer-woods-walk-and-camping/
LOCATION:Gemmer Range\, 2300 Bend Road\, Pacific\, MO\, 63069\, United States
CATEGORIES:Public Matches
ATTACH;FMTTYPE=image/jpeg:https://www.gemmermuzzleloadingclub.com/wp-content/uploads/2026/01/IMG_3773.jpeg
ORGANIZER;CN="Mike Briscoe":MAILTO:msb7211@yahoo.com
END:VEVENT
BEGIN:VEVENT
DTSTART;TZID=America/Chicago:20260517T100000
DTEND;TZID=America/Chicago:20260517T140000
DTSTAMP:20260421T045448
CREATED:20250620T094006Z
LAST-MODIFIED:20251109T165008Z
UID:15693-1779012000-1779026400@www.gemmermuzzleloadingclub.com
SUMMARY:05-17-2026 - Light Bench Gun Match
DESCRIPTION:Open to the Public Bench Match \n\n\n\n\n\nLight Bench Match Rules: \n\n\n\n\nPublic Match (by invitation only)\n\n\n\nAll Gemmer Range Rules Apply and NMLRA Safety Rules\n\n\n\nVisitors must sign range waiver\n\n\n\nDistance: 35 Yards\n\n\n\nBench: Club Supplied\n\n\n\nFront Rest: Step up 2×4 rest Supplied by club (a pad the thickness of a piece of leather can be used to protect rifle on rest.\n\n\n\nRifle:\n\nStyle: Traditional Muzzleloaders Only\, Flintlock or Percussion\n\n\n\nWeight: Under 15 lbs\n\n\n\nCaliber: Any\n\n\n\nSights: Open metallic\n\n\n\nShadders: No\n\n\n\nDiopters: No\n\n\n\nFalse Muzzles: If Used\, they need to be connected to bench\n\n\n\n\n\nTarget: 6 bull provided by club (SB-1)\n\n\n\nShots: 10 (2 per bull with 1 practice bull)\n\n\n\nScoring: 100 point system\n\n\n\nRelays: 2 if more than 10 shooters\n\n\n\nPrizes: Cash\n\n\n\nCost: $15\n\n\n\n50/50 Card Game\n\n\n\n\nShooting starts at 10am so please arrive early to setup. Gates will be open by 8:30am.  Recommend that Visitors RSVP with Joe Kelly. \n\n\n\n\n\n\n\n\n\n\n\n\n\n\nShare this:\n				Share on Facebook (Opens in new window)\n				Facebook\n			\n				Share on X (Opens in new window)\n				X\n			\n				Email a link to a friend (Opens in new window)\n				Email\n			\n				Share on Pinterest (Opens in new window)\n				Pinterest\n			\n				Print (Opens in new window)\n				Print\n			\n				Share on X (Opens in new window)\n				X\n			Like this:Like Loading...
URL:https://www.gemmermuzzleloadingclub.com/event/07-20-2025-light-bench-gun-match/
LOCATION:Gemmer Range\, 2300 Bend Road\, Pacific\, MO\, 63069\, United States
CATEGORIES:Public Matches
ATTACH;FMTTYPE=image/jpeg:https://www.gemmermuzzleloadingclub.com/wp-content/uploads/2025/06/Bench-2.jpg
ORGANIZER;CN="Joe Kelly":MAILTO:Justjoe3006@proton.me
END:VEVENT
BEGIN:VEVENT
DTSTART;TZID=America/Chicago:20260524T120000
DTEND;TZID=America/Chicago:20260524T160000
DTSTAMP:20260421T045448
CREATED:20241204T210651Z
LAST-MODIFIED:20251205T151342Z
UID:14324-1779624000-1779638400@www.gemmermuzzleloadingclub.com
SUMMARY:5-24-2026 - Doug Scott Memorial - Chunk Gun Shoot
DESCRIPTION:5-24-2026\, Noon –  Chunk Gun Match \nJ. P. Gemmer Muzzleloading Gun Club“Doug Scott Memorial”Chunk Gun ShootSunday\, May 24\, 2026Be set up and ready to shoot at 12 noon.Free to shoot. Bring a prize\, take a prize. Bring something you would like to win\, at least $20 worth. (Optional)Open Sights. Prone. 60 yards. Bring a sighter (target to aim at).A “chunk” is a traditionally a piece of wood on the ground to support the barrel. The shooter lays on their stomach to shoot. This match will be 10 individual targets\, one shot at each target. The distance from the center “X” will be measured and the total distance for 10 targets added together for an aggregate score.A practice relay\, up to four shots at your sighter\, will start promptly at 12:00 pm and last about 20 minutes. Then one target is posted behind the sighter and one shot fired for score. There is no time limit\, just try to get your shot off when ready. After all shooters shoot the target once\, I will close the line and all shooters will pull the target and post the next one. Range safety rules will be followed – no loading between rounds\, keep the muzzle up until you are at the firing line\, and do not prime until the muzzle is pointed down range.The butt must be supported by your body\, no sandbag under the butt. No adjustment of sights after the practice shots are taken. Shaders and sandbags on top of the chunk are allowed. There is no weight or caliber limit on rifles. Wind flags at firing line only.Out-of-towners welcome. Send me a text to let me know who is coming\, and I will reply with an invite and directions to range. I ask that you comply with our range rules and sign a waiver… Questions? Walter Fett\, match director. 314-537-2816 text OK. \nShare this:\n				Share on Facebook (Opens in new window)\n				Facebook\n			\n				Share on X (Opens in new window)\n				X\n			\n				Email a link to a friend (Opens in new window)\n				Email\n			\n				Share on Pinterest (Opens in new window)\n				Pinterest\n			\n				Print (Opens in new window)\n				Print\n			\n				Share on X (Opens in new window)\n				X\n			Like this:Like Loading...
URL:https://www.gemmermuzzleloadingclub.com/event/doug-scott-memorial-chunk-gun-shoot-by-walter-fett/
LOCATION:MO
CATEGORIES:Public Matches
ATTACH;FMTTYPE=image/jpeg:https://www.gemmermuzzleloadingclub.com/wp-content/uploads/2025/11/img_3242.jpg
ORGANIZER;CN="Walter Fett":MAILTO:walterf2468@yahoo.com
END:VEVENT
BEGIN:VEVENT
DTSTART;TZID=America/Chicago:20260530T080000
DTEND;TZID=America/Chicago:20260530T120000
DTSTAMP:20260421T045448
CREATED:20241204T214103Z
LAST-MODIFIED:20260111T211743Z
UID:14326-1780128000-1780142400@www.gemmermuzzleloadingclub.com
SUMMARY:5-30-2026 – Club Workday 3 and Silhouette Match
DESCRIPTION:5-30-2026 Saturday\, 8:00am to Noon – Club Workday 3 and Silhouette Match \nCost: $15 assessed on your 2026 dues if missed. \nDon’t forget:  Always sign in on the sheet provided. \nRon Lawrence will host a public Silhouette Match following the workday.(See Rules in the Match Handbook for details.) Cost: $5.  Total of 20 offhand shots at steel targets. \nShare this:\n				Share on Facebook (Opens in new window)\n				Facebook\n			\n				Share on X (Opens in new window)\n				X\n			\n				Email a link to a friend (Opens in new window)\n				Email\n			\n				Share on Pinterest (Opens in new window)\n				Pinterest\n			\n				Print (Opens in new window)\n				Print\n			\n				Share on X (Opens in new window)\n				X\n			Like this:Like Loading...
URL:https://www.gemmermuzzleloadingclub.com/event/5-30-2026-saturday-800am-to-noon-club-workday-3/
LOCATION:Gemmer Range\, 2300 Bend Road\, Pacific\, MO\, 63069\, United States
CATEGORIES:Public Matches,Workdays
ORGANIZER;CN="Ron Lawrence":MAILTO:rwrllawrence@gmail.com
END:VEVENT
END:VCALENDAR